BEGIN:VCALENDAR
VERSION:2.0
PRODID:-//wp-events-plugin.com//7.2.3.1//EN
TZID:Europe/Rome
X-WR-TIMEZONE:Europe/Rome
BEGIN:VEVENT
UID:1-658@vallivaldesi.chiesavaldese.org
DTSTART;TZID=Europe/Rome:20260423T183000
DTEND;TZID=Europe/Rome:20260423T203000
DTSTAMP:20260420T092549Z
URL:https://www.vallivaldesi.chiesavaldese.org/eventi/accessibilita-comuni
 cativa-a-luserna-san-giovanni/
SUMMARY:"Accessibilità comunicativa" a Luserna San Giovanni
DESCRIPTION:\nLuserna San Giovanni: Per il progetto Territori Smart\, le ch
 iese valdesi del I circuito (val Pellice) e la Diaconia Valdese propongono
  l’incontro “Accessibilità comunicativa”\, a cura del BUM centro Au
 tismo di Pinerolo. Si proporranno strumenti e approcci per rendere la comu
 nicazione negli spazi ecclesiastici più accessibile ed inclusiva. Dalle o
 re 18\,30 alle 20\,30 negli spazi al pianterreno di Villa Olanda\, in via 
 Fuhrmann 23. La formazione fa parte del percorso “chiese inclusive”. I
 l progetto è finanziato con Otto per Mille delle chiese valdesi e metodis
 te. \n
END:VEVENT
BEGIN:VTIMEZONE
TZID:Europe/Rome
X-LIC-LOCATION:Europe/Rome
BEGIN:DAYLIGHT
DTSTART:20260329T030000
TZOFFSETFROM:+0100
TZOFFSETTO:+0200
TZNAME:CEST
END:DAYLIGHT
END:VTIMEZONE
END:VCALENDAR