BEGIN:VCALENDAR
VERSION:2.0
PRODID:-//wp-events-plugin.com//7.2.3.1//EN
TZID:Europe/Rome
X-WR-TIMEZONE:Europe/Rome
BEGIN:VEVENT
UID:1-331@vallivaldesi.chiesavaldese.org
DTSTART;TZID=Europe/Rome:20251124T143000
DTEND;TZID=Europe/Rome:20251124T170000
DTSTAMP:20251001T093633Z
URL:https://www.vallivaldesi.chiesavaldese.org/eventi/caffe-alzheimer-pine
 rolo-2/
SUMMARY:Caffè Alzheimer Pinerolo
DESCRIPTION:\nPinerolo: Caffè Alzheimer sul tema “In quale momento la ma
 lattia è entrata nelle nostre vite…” con Evelin Ramonda\, neuropsicol
 oga Asl To3. All’Hotel Barrage in stradale San Secondo 100\, dalle 14\,3
 0 alle 17. Ingresso libero e gratuito.&nbsp\;\n
END:VEVENT
BEGIN:VTIMEZONE
TZID:Europe/Rome
X-LIC-LOCATION:Europe/Rome
BEGIN:STANDARD
DTSTART:20251026T020000
TZOFFSETFROM:+0200
TZOFFSETTO:+0100
TZNAME:CET
END:STANDARD
END:VTIMEZONE
END:VCALENDAR