BEGIN:VCALENDAR
VERSION:2.0
PRODID:-//wp-events-plugin.com//7.2.3.1//EN
TZID:Europe/Rome
X-WR-TIMEZONE:Europe/Rome
BEGIN:VEVENT
UID:1-345@vallivaldesi.chiesavaldese.org
DTSTART;TZID=Europe/Rome:20260330T143000
DTEND;TZID=Europe/Rome:20260330T170000
DTSTAMP:20251001T095342Z
URL:https://www.vallivaldesi.chiesavaldese.org/eventi/caffe-alzheimer-pine
 rolo-5/
SUMMARY:Caffè Alzheimer Pinerolo
DESCRIPTION:\nPinerolo: Caffè Alzheimer sul tema “Riorganizzare l’ambi
 ente domestico per la persona con demenza” con Fabrizio Lattanzio e Adri
 ana Lattice\, associazione Memory Team di Bari. All’Hotel Barrage in str
 adale San Secondo 100\, dalle 14\,30 alle 17. Ingresso libero e gratuito.
  \n
END:VEVENT
BEGIN:VTIMEZONE
TZID:Europe/Rome
X-LIC-LOCATION:Europe/Rome
BEGIN:DAYLIGHT
DTSTART:20260329T030000
TZOFFSETFROM:+0100
TZOFFSETTO:+0200
TZNAME:CEST
END:DAYLIGHT
END:VTIMEZONE
END:VCALENDAR