BEGIN:VCALENDAR
VERSION:2.0
PRODID:-//wp-events-plugin.com//7.2.3.1//EN
TZID:Europe/Rome
X-WR-TIMEZONE:Europe/Rome
BEGIN:VEVENT
UID:1-341@vallivaldesi.chiesavaldese.org
DTSTART;TZID=Europe/Rome:20260204T143000
DTEND;TZID=Europe/Rome:20260204T170000
DTSTAMP:20251001T095053Z
URL:https://www.vallivaldesi.chiesavaldese.org/eventi/caffe-alzheimer-val-
 pellice-5/
SUMMARY:Caffè Alzheimer val Pellice
DESCRIPTION:\nTorre Pellice: Caffè Alzheimer sul tema “Demenza territori
 o Pinerolese\, un coro a più voci” con CISS Pinerolese\, associazioni A
 .N.A.P.A.C.A. e AMA\, Diaconia Valdese con Rifugio Re Carlo Alberto e Prog
 etto IntegralMente. Alla Galleria Scroppo in via d’Azeglio 10\, dalle 14
 \,30 alle 17. Ingresso libero e gratuito.\n
END:VEVENT
BEGIN:VTIMEZONE
TZID:Europe/Rome
X-LIC-LOCATION:Europe/Rome
BEGIN:STANDARD
DTSTART:20251026T020000
TZOFFSETFROM:+0200
TZOFFSETTO:+0100
TZNAME:CET
END:STANDARD
END:VTIMEZONE
END:VCALENDAR