BEGIN:VCALENDAR
VERSION:2.0
PRODID:-//wp-events-plugin.com//7.2.3.1//EN
TZID:Europe/Rome
X-WR-TIMEZONE:Europe/Rome
BEGIN:VEVENT
UID:1-343@vallivaldesi.chiesavaldese.org
DTSTART;TZID=Europe/Rome:20260304T143000
DTEND;TZID=Europe/Rome:20260304T170000
DTSTAMP:20251001T095212Z
URL:https://www.vallivaldesi.chiesavaldese.org/eventi/caffe-alzheimer-val-
 pellice-6/
SUMMARY:Caffè Alzheimer val Pellice
DESCRIPTION:\nTorre Pellice: Caffè Alzheimer sul tema “La protezione del
 le persone in tutela ed in amministrazione di sostegno: ufficio di pubblic
 a tutela e ufficio di prossimità” con Diego Lopomo\, avvocato ed Alessi
 a Miglio\, assistente sociale CISS Pinerolese. Alla Galleria Scroppo in vi
 a d’Azeglio 10\, dalle 14\,30 alle 17. Ingresso libero e gratuito.\n
END:VEVENT
BEGIN:VTIMEZONE
TZID:Europe/Rome
X-LIC-LOCATION:Europe/Rome
BEGIN:STANDARD
DTSTART:20251026T020000
TZOFFSETFROM:+0200
TZOFFSETTO:+0100
TZNAME:CET
END:STANDARD
END:VTIMEZONE
END:VCALENDAR