BEGIN:VCALENDAR
VERSION:2.0
PRODID:-//wp-events-plugin.com//7.2.3.1//EN
TZID:Europe/Rome
X-WR-TIMEZONE:Europe/Rome
BEGIN:VEVENT
UID:1-346@vallivaldesi.chiesavaldese.org
DTSTART;TZID=Europe/Rome:20260401T143000
DTEND;TZID=Europe/Rome:20260401T170000
DTSTAMP:20251001T095420Z
URL:https://www.vallivaldesi.chiesavaldese.org/eventi/caffe-alzheimer-val-
 pellice-7/
SUMMARY:Caffè Alzheimer val Pellice
DESCRIPTION:\nTorre Pellice: Caffè Alzheimer sul tema ‘‘Perché lo acc
 udisci che lui non sa nemmeno che sei suo figlio? Perché io so che lui è
  mio padre - Un approccio diverso ai sintomi comportamentali in una person
 a con demenza’’ con Evelin Ramonda\, neuropsicologa ASL TO3. Alla Gall
 eria Scroppo in via d’Azeglio 10\, dalle 14\,30 alle 17. Ingresso libero
  e gratuito.\n
END:VEVENT
BEGIN:VTIMEZONE
TZID:Europe/Rome
X-LIC-LOCATION:Europe/Rome
BEGIN:DAYLIGHT
DTSTART:20260329T030000
TZOFFSETFROM:+0100
TZOFFSETTO:+0200
TZNAME:CEST
END:DAYLIGHT
END:VTIMEZONE
END:VCALENDAR