BEGIN:VCALENDAR
VERSION:2.0
PRODID:-//wp-events-plugin.com//7.2.3.1//EN
TZID:Europe/Rome
X-WR-TIMEZONE:Europe/Rome
BEGIN:VEVENT
UID:1-329@vallivaldesi.chiesavaldese.org
DTSTART;TZID=Europe/Rome:20251112T150000
DTEND;TZID=Europe/Rome:20251112T170000
DTSTAMP:20251001T093502Z
URL:https://www.vallivaldesi.chiesavaldese.org/eventi/caffe-alzheimer-vill
 ar-perosa-2/
SUMMARY:Caffè Alzheimer Villar Perosa
DESCRIPTION:\nVillar Perosa: Caffè Alzheimer sul tema ““Il ruolo della
  terapia occupazionale” con Laura Gnutti\, terapista occupazionale. Alla
  foresteria valdese in via Assietta 4 dalle 15 alle 17.\n
END:VEVENT
BEGIN:VTIMEZONE
TZID:Europe/Rome
X-LIC-LOCATION:Europe/Rome
BEGIN:STANDARD
DTSTART:20251026T020000
TZOFFSETFROM:+0200
TZOFFSETTO:+0100
TZNAME:CET
END:STANDARD
END:VTIMEZONE
END:VCALENDAR