BEGIN:VCALENDAR
VERSION:2.0
PRODID:-//wp-events-plugin.com//7.2.3.1//EN
TZID:Europe/Rome
X-WR-TIMEZONE:Europe/Rome
BEGIN:VEVENT
UID:1-344@vallivaldesi.chiesavaldese.org
DTSTART;TZID=Europe/Rome:20260311T150000
DTEND;TZID=Europe/Rome:20260311T170000
DTSTAMP:20251001T095259Z
URL:https://www.vallivaldesi.chiesavaldese.org/eventi/caffe-alzheimer-vill
 ar-perosa-4/
SUMMARY:Caffè Alzheimer Villar Perosa
DESCRIPTION:\nVillar Perosa: Caffè Alzheimer con presentazione del documen
 tario “Human Forever” del regista olandese Jonathan De Jong. Alla fore
 steria valdese in via Assietta 4 dalle 15 alle 17.\n
END:VEVENT
BEGIN:VTIMEZONE
TZID:Europe/Rome
X-LIC-LOCATION:Europe/Rome
BEGIN:STANDARD
DTSTART:20251026T020000
TZOFFSETFROM:+0200
TZOFFSETTO:+0100
TZNAME:CET
END:STANDARD
END:VTIMEZONE
END:VCALENDAR