BEGIN:VCALENDAR
VERSION:2.0
PRODID:-//wp-events-plugin.com//7.2.3.1//EN
TZID:Europe/Rome
X-WR-TIMEZONE:Europe/Rome
BEGIN:VEVENT
UID:1-335@vallivaldesi.chiesavaldese.org
DTSTART;TZID=Europe/Rome:20251210T210000
DTEND;TZID=Europe/Rome:20251210T230000
DTSTAMP:20251001T094526Z
URL:https://www.vallivaldesi.chiesavaldese.org/eventi/caffealzheimer/
SUMMARY:Caffè Alzheimer Villar Perosa
DESCRIPTION:\nVillar Perosa: Caffè Alzheimer sul tema “I 14 fattori di r
 ischio modificabili per la prevenzione della demenza” con Federica Gallo
 \, neuropsicologa Asl To 3. Alla foresteria valdese in via Assietta 4 dall
 e 15 alle 17\n
END:VEVENT
BEGIN:VTIMEZONE
TZID:Europe/Rome
X-LIC-LOCATION:Europe/Rome
BEGIN:STANDARD
DTSTART:20251026T020000
TZOFFSETFROM:+0200
TZOFFSETTO:+0100
TZNAME:CET
END:STANDARD
END:VTIMEZONE
END:VCALENDAR