BEGIN:VCALENDAR
VERSION:2.0
PRODID:-//wp-events-plugin.com//7.2.3.1//EN
TZID:Europe/Rome
X-WR-TIMEZONE:Europe/Rome
BEGIN:VEVENT
UID:1-328@vallivaldesi.chiesavaldese.org
DTSTART;TZID=Europe/Rome:20251108T160000
DTEND;TZID=Europe/Rome:20251108T180000
DTSTAMP:20251001T093401Z
URL:https://www.vallivaldesi.chiesavaldese.org/eventi/concerti-per-bambini
 -a-pinerolo/
SUMMARY:Concerti per bambini a Pinerolo
DESCRIPTION:\nPinerolo: L’associazione culturale Ettore Serafino propone 
 il secondo ciclo di “concerti per bambini”\, momenti di ascolto e gioc
 o con la musica per bambini fino agli 11 anni circa curati dalla professor
 essa di musica Annalisa Manassero in collaborazione con l’istituto music
 ale Corelli. . Gli incontri si svolgono alle 16 nei locali del tempio vald
 ese in via dei Mille. Oggi il tema sarà “La sinfonia dei giocattoli" co
 n ensemble di chitarre diretto dal maestro Giovanni Freiria. Prenotazione 
 obbligatoria.\n
END:VEVENT
BEGIN:VTIMEZONE
TZID:Europe/Rome
X-LIC-LOCATION:Europe/Rome
BEGIN:STANDARD
DTSTART:20251026T020000
TZOFFSETFROM:+0200
TZOFFSETTO:+0100
TZNAME:CET
END:STANDARD
END:VTIMEZONE
END:VCALENDAR