BEGIN:VCALENDAR
VERSION:2.0
PRODID:-//wp-events-plugin.com//7.2.3.1//EN
TZID:Europe/Rome
X-WR-TIMEZONE:Europe/Rome
BEGIN:VEVENT
UID:1-657@vallivaldesi.chiesavaldese.org
DTSTART;TZID=Europe/Rome:20260509T170000
DTEND;TZID=Europe/Rome:20260509T190000
DTSTAMP:20260420T083744Z
URL:https://www.vallivaldesi.chiesavaldese.org/eventi/mostra-su-rabelais-a
 -san-germano/
SUMMARY:Mostra su Rabelais a San Germano
DESCRIPTION:\nSan Germano: alla biblioteca Baci\, archivio del cinquecento\
 , alle ore 17 inaugurazione della mostra documentaria sullo scrittore\, me
 dico e monaco François Rabelais\, a noi oggi noto soprattutto per aver ra
 ccontato le vicende dei giganti Gargantua e del figlio Pantagruel. Inaugur
 erà la mostra François Roudaut\, grande specialista della letteratura de
 l Cinquecento francese. La mostra si incentra su pannelli informativi e su
 i libri che del protagonista parlano. \n\n\n\nRimarrà aperta per l'intera
  giornata di domenica 10 (giorno della Fiera primaverile di San Germano) e
  tutti i pomeriggi della settimana seguente (14.30-18.30)\, fino alla matt
 ina di sabato 16 (8-12).\n
END:VEVENT
BEGIN:VTIMEZONE
TZID:Europe/Rome
X-LIC-LOCATION:Europe/Rome
BEGIN:DAYLIGHT
DTSTART:20260329T030000
TZOFFSETFROM:+0100
TZOFFSETTO:+0200
TZNAME:CEST
END:DAYLIGHT
END:VTIMEZONE
END:VCALENDAR