BEGIN:VCALENDAR
VERSION:2.0
PRODID:-//wp-events-plugin.com//7.2.3.1//EN
TZID:Europe/Rome
X-WR-TIMEZONE:Europe/Rome
BEGIN:VEVENT
UID:1-330@vallivaldesi.chiesavaldese.org
DTSTART;TZID=Europe/Rome:20251115T210000
DTEND;TZID=Europe/Rome:20251115T230000
DTSTAMP:20251001T093539Z
URL:https://www.vallivaldesi.chiesavaldese.org/eventi/suoni-dautunno-a-pra
 rostino/
SUMMARY:Suoni d'autunno a Prarostino
DESCRIPTION:\nPrarostino: per la rassegna “Suoni d’autunno” organizza
 ta dall’associazione Musica Insieme\, concerto “Overground… blues”
 \, itinerario attraverso la musica blues. Alle ore 21 nel tempio valdese. 
 Ingresso libero.\n
END:VEVENT
BEGIN:VTIMEZONE
TZID:Europe/Rome
X-LIC-LOCATION:Europe/Rome
BEGIN:STANDARD
DTSTART:20251026T020000
TZOFFSETFROM:+0200
TZOFFSETTO:+0100
TZNAME:CET
END:STANDARD
END:VTIMEZONE
END:VCALENDAR